BEGIN:VCALENDAR
VERSION:2.0
PRODID:-//Friedvolle Krieger - ECPv6.15.20//NONSGML v1.0//EN
CALSCALE:GREGORIAN
METHOD:PUBLISH
X-WR-CALNAME:Friedvolle Krieger
X-ORIGINAL-URL:https://friedvolle-krieger.de
X-WR-CALDESC:Veranstaltungen für Friedvolle Krieger
REFRESH-INTERVAL;VALUE=DURATION:PT1H
X-Robots-Tag:noindex
X-PUBLISHED-TTL:PT1H
BEGIN:VTIMEZONE
TZID:Europe/Berlin
BEGIN:DAYLIGHT
TZOFFSETFROM:+0100
TZOFFSETTO:+0200
TZNAME:CEST
DTSTART:20250330T010000
END:DAYLIGHT
BEGIN:STANDARD
TZOFFSETFROM:+0200
TZOFFSETTO:+0100
TZNAME:CET
DTSTART:20251026T010000
END:STANDARD
BEGIN:DAYLIGHT
TZOFFSETFROM:+0100
TZOFFSETTO:+0200
TZNAME:CEST
DTSTART:20260329T010000
END:DAYLIGHT
BEGIN:STANDARD
TZOFFSETFROM:+0200
TZOFFSETTO:+0100
TZNAME:CET
DTSTART:20261025T010000
END:STANDARD
BEGIN:DAYLIGHT
TZOFFSETFROM:+0100
TZOFFSETTO:+0200
TZNAME:CEST
DTSTART:20270328T010000
END:DAYLIGHT
BEGIN:STANDARD
TZOFFSETFROM:+0200
TZOFFSETTO:+0100
TZNAME:CET
DTSTART:20271031T010000
END:STANDARD
END:VTIMEZONE
BEGIN:VEVENT
DTSTART;TZID=Europe/Berlin:20261104T180000
DTEND;TZID=Europe/Berlin:20261209T200000
DTSTAMP:20260423T102935
CREATED:20240606T185435Z
LAST-MODIFIED:20251210T144140Z
UID:504-1793815200-1796846400@friedvolle-krieger.de
SUMMARY:Intuition intensiv - Online Training zur entfaltung geistiger Fähigkeiten
DESCRIPTION:Finde zu deinem wahren Selbst – Entfalte deine Intuition \nIn unserer schnelllebigen Welt fühlen wir uns oft festgefahren\, als würde uns etwas Wesentliches fehlen. Jetzt ist die Zeit\, deine innere Weisheit zu erwecken und einen tieferen Zugang zu dir selbst zu finden. Intuition ist der Schlüssel – dein Werkzeug für mehr Klarheit und Selbstbestimmung. \nWarum Intuition? \nMitten im hektischen Alltag verlieren wir oft den Kontakt zu uns selbst. Doch deine Intuition ist immer da – sie zeigt dir\, was dir wirklich guttut und dich voranbringt. In diesem Kurs lernst du\, dieser inneren Stimme zu vertrauen und mit ihr kraftvolle Entscheidungen zu treffen\, die dich durch den Alltag tragen. \nWas erwartet dich? \nDies ist deine Reise zu mehr Bewusstseinserweiterung\, Klarheit\, Stärke und Selbstbestimmung. Du wirst lernen\, wie du die leise Stimme der Intuition besser hören kannst und wie du sie als kraftvolle Ressource nutzt\, um Entscheidungen zu treffen\, die dich authentisch und entschlossen durchs Leben führen. \nDas Größte Geschenk: Du bist auf diesem Weg nicht allein. Du wirst Teil einer dynamischen Gruppe\, die gemeinsam ihre Intuition entfaltet und ihre inneren Blockaden überwindet. Das gibt unserer Entwicklung eine starke Beschleunigung. Hier erhältst du die Unterstützung\, Austausch und gemeinsames Wachstum. Gemeinsam schaffen wir einen Raum\, in dem du die Klarheit findest\, die du brauchst\, um dein Leben mit neuer Energie und Entschlossenheit zu leben. \nKeine Vorkenntnisse nötig! \nEgal\, wo du gerade stehst – dieser Kurs ist offen für alle. Starte die Reise zu dir selbst\, sobald du den Ruf fühlst. \n  \nInhalte\n\nVertiefung der Verbindung mit deiner inneren Weisheit\nGefahren wahrnehmen\nFortgeschrittene Techniken zur Nutzung der Intuition für persönliches Wachstum und Kreativität\nWahrnehmung schärfen\nklare Verbindung zur inneren Weisheit\nHeilung\nLügen entdecken\nGeistige Fähigkeiten\n\n  \nInfos:\nDie Termine:\nImmer dienstags: 04.11. /11.11. / 18.11. / 25.11/ 02.12. / 09.12. \nUhrzeit jeweils: 18:00 – 20:00 Uhr \nPlattform: Zoom \nKosten: \n\nFrühbucher bis zum 29.10.2026 \n€ 230/ Einzelanmeldung \n€ 350/ 2 Menschen \n€ 400 / 3 Menschen \nab dem 30.10.2026 steigt der Preis um 50 €
URL:https://friedvolle-krieger.de/training/intuition-intensiv
LOCATION:Online
CATEGORIES:Intuitionstraining
ATTACH;FMTTYPE=image/webp:https://friedvolle-krieger.de/wp-content/uploads/medi-circle.webp
ORGANIZER;CN="Friedvolle Krieger":MAILTO:info@friedvolle-krieger.de
END:VEVENT
BEGIN:VEVENT
DTSTART;TZID=Europe/Berlin:20261127T180000
DTEND;TZID=Europe/Berlin:20261129T140000
DTSTAMP:20260423T102935
CREATED:20251124T205534Z
LAST-MODIFIED:20260223T142043Z
UID:2140-1795802400-1795960800@friedvolle-krieger.de
SUMMARY:Handlungsfähig unter Druck - Systema  Seminar
DESCRIPTION:Egal\, welchen Weg du gehst – ob Wettkampfsportler\, alleinerziehende Mutter\, Personenschützer oder jemand\, der einfach wieder mehr bei sich ankommen möchte:\nWenn du Stress und Herausforderungen erlebst\, wird dich dieses Seminar weiterbringen!\nDie in diesem Seminar vermittelten Prinzipien werden dir nach diesen drei Tagen spürbar mehr Präsenz\, Effizienz\, einen höheren Entspannungsgrad sowie bessere emotionale Kontrolle unter Stress und Druck verleihen. \nDu lernst Werkzeuge kennen\, die in jedem Lebensbereich wirken – in herausfordernden Momenten ebenso wie im Alltag.Ein Training\, das dich zurück in deine Mitte bringt\, deine innere Stärke aktiviert und dir zeigt\, wie viel mehr in dir steckt\, wenn Körper\, Geist und Wahrnehmung zusammenarbeiten. \nDie richtige Atmung hilft dir\, klarere Entscheidungen zu treffen und handlungsfähig zu bleiben. Sie löst Verspannungen und macht dich insgesamt präsenter\, effektiver und effizienter. \nIn unserem 3-tägigen Systema-Seminar lernst du\, diese kraftvollen Erkenntnisse nicht nur zu verstehen\, sondern direkt in deinem Körper zu verankern – für mehr Stärke\, Ruhe und Klarheit im Alltag. \nDie Prinzipien im Einklang: \nDie Prinzipien von Systema fließen ineinander über und bilden eine Einheit: \n\nAtmung: Halten wir den Atem an – wie es die meisten Menschen unter Schock oder Stress tun – ist der Körper nicht ausreichend mit Sauerstoff versorgt\, um handlungsfähig zu sein. Kontinuierliches\, der Belastung angepasstes Atmen ist der Schlüssel zur Handlungsfähigkeit.\nStruktur: Eine dem Kontext angepasste Körperstruktur ermöglicht effiziente und kraftvolle Bewegungen.\nEntspannung: Nur in tiefer Entspannung können Bewegungen schnell\, präzise und flüssig fließen.\nKontinuierliche Bewegung: Anstatt dein Ziel zu erzwingen\, bewegen wir uns weiter\, bis sich eine Lösung auftut.\nDer Veranstaltungsort steht noch nicht fest – vorgesehen ist der Leipziger Westen.\n\nDu kennst Daniels Herangehensweise an Systema noch nicht? Dann empfehle ich dir dieses Video. \n\n\n  \nDu kennst die Systema Atmung noch nicht? Dann solltest du dir dieses Video einmal ansehen.\n 
URL:https://friedvolle-krieger.de/training/handlungsfaehig-unter-druck-systema-seminar
ATTACH;FMTTYPE=image/jpeg:https://friedvolle-krieger.de/wp-content/uploads/systema-kampfkunst-friedvolle-krieger-1-scaled.jpg
END:VEVENT
END:VCALENDAR