BEGIN:VCALENDAR
VERSION:2.0
PRODID:-//Friedvolle Krieger - ECPv6.15.20//NONSGML v1.0//EN
CALSCALE:GREGORIAN
METHOD:PUBLISH
X-WR-CALNAME:Friedvolle Krieger
X-ORIGINAL-URL:https://friedvolle-krieger.de
X-WR-CALDESC:Veranstaltungen für Friedvolle Krieger
REFRESH-INTERVAL;VALUE=DURATION:PT1H
X-Robots-Tag:noindex
X-PUBLISHED-TTL:PT1H
BEGIN:VTIMEZONE
TZID:Europe/Berlin
BEGIN:DAYLIGHT
TZOFFSETFROM:+0100
TZOFFSETTO:+0200
TZNAME:CEST
DTSTART:20250330T010000
END:DAYLIGHT
BEGIN:STANDARD
TZOFFSETFROM:+0200
TZOFFSETTO:+0100
TZNAME:CET
DTSTART:20251026T010000
END:STANDARD
BEGIN:DAYLIGHT
TZOFFSETFROM:+0100
TZOFFSETTO:+0200
TZNAME:CEST
DTSTART:20260329T010000
END:DAYLIGHT
BEGIN:STANDARD
TZOFFSETFROM:+0200
TZOFFSETTO:+0100
TZNAME:CET
DTSTART:20261025T010000
END:STANDARD
BEGIN:DAYLIGHT
TZOFFSETFROM:+0100
TZOFFSETTO:+0200
TZNAME:CEST
DTSTART:20270328T010000
END:DAYLIGHT
BEGIN:STANDARD
TZOFFSETFROM:+0200
TZOFFSETTO:+0100
TZNAME:CET
DTSTART:20271031T010000
END:STANDARD
END:VTIMEZONE
BEGIN:VEVENT
DTSTART;TZID=Europe/Berlin:20260903T170000
DTEND;TZID=Europe/Berlin:20260903T200000
DTSTAMP:20260425T144458
CREATED:20260207T092924Z
LAST-MODIFIED:20260207T092924Z
UID:2275-1788454800-1788465600@friedvolle-krieger.de
SUMMARY:Selbstintegration - Intensiv
DESCRIPTION:Dieser Intensivkurs ist eine tiefgehende Reise der Selbstintegration und Selbstentfaltung. Er richtet sich an Menschen\, die bereit sind\, Verantwortung für ihre inneren Anteile\, Schatten und ungelösten Themen zu übernehmen\, um ihr wahres Wesen immer klarer zu verkörpern. \nDie Arbeit folgt einem direkten und ehrlichen Weg. Innere Anteile werden bewusst aufgestellt und erfahrbar gemacht\, wodurch ein vertieftes Verständnis sowie eine lebendige und heilsame Beziehung zu sich selbst entstehen kann. Dieser Prozess erfordert Eigenverantwortung und den Mut\, sich dem zuzuwenden\, was bisher im Verborgenen lag. \nDurch bewusstes Hinsehen und Integrieren entwickeln sich innere Reife\, Klarheit und Authentizität. Die Prozesse können dabei eine tiefgreifende therapeutische Wirkung entfalten und finden in einem geschützten Raum statt\, der nachhaltige Veränderung und innere Versöhnung ermöglicht. \nNeben der Integration der eigenen inneren Prozesse schulen wir gezielt unsere Wahrnehmungsfähigkeiten. Mit wachsendem Vertrauen in die eigene innere Führung entsteht mehr Selbstsicherheit\, Klarheit im Kontakt mit anderen – und eine zunehmende Unabhängigkeit von äußerer Manipulation. \nWas ist Selbstintegration?\nSelbstintegration ist eine tiefgehende Methode der Persönlichkeitsentwicklung.\nSie führt dich Schritt für Schritt zur Verkörperung deines wahren Wesens. \nDie vier Anteile in ihrer erlösten Form\n Der erlöste Erwachsene \n\n\nübernimmt Verantwortung für das eigene Leben \n\n\nsorgt gut für Körper und Seele \n\n\nist präsent\, klar und innerlich entspannt \n\n\nführt die inneren Anteile liebevoll \n\n\nfindet Balance und Ausdruck \n\n\n  \n Das erlöste Kind \n\n\nist lebendig\, neugierig und offen \n\n\nliebt Natur\, Tiere und das Draußensein \n\n\ngeht vertrauensvoll in Kontakt \n\n\nfühlt sich verbunden mit sich\, anderen und der Welt \n\n\nbringt Freude\, Spontanität und Ehrlichkeit \n\n\n  \n Die erlöste Kriegerin / der erlöste Krieger \n\n\nbringt Klarheit\, Fokus und Zielkraft – ohne Erschöpfung \n\n\nsetzt gesunde Grenzen und öffnet sie bewusst \n\n\nschützt mit wacher Präsenz \n\n\ndient der inneren Führung \n\n\nerkennt\, wann Ruhe wichtig ist \n\n\n  \n Die erlöste Kraft von Eros \n\n\nist sinnlich\, schöpferisch und voller Lebenskraft \n\n\nverbindet Körper\, Sexualität und Spiritualität \n\n\ndrückt sich durch Bewegung\, Kunst\, Nähe und Präsenz aus \n\n\nerinnert dich an deine wahre Größe und Strahlkraft \n\n\n  \nZur unterstützenden Begleitung der Prozesse während des Kurses sowie für einen Zeitraum von vier Wochen nach Kursende bieten wir Einzelsessions zu einem um 20 % reduzierten Preis an. So besteht die Möglichkeit\, individuelle Themen zu vertiefen und persönliche Integrationsprozesse achtsam weiterzuführen. \nErgänzend dazu wird es eine interne\, begleitende Telegram-Gruppe geben. Dort teilen wir regelmäßig Impulse\, Reflexionsanregungen und Hinweise zur Integration. Gleichzeitig entsteht ein geschützter Raum für gegenseitigen Austausch\, Unterstützung und Verbundenheit innerhalb der Gruppe. \n\n\nEinladung\nSeit vielen Jahren sind wir\, Daniel und Anna-Lena\, einander nicht nur Partner im Leben\, sondern auch entschlossene Wegbegleiter in der Arbeit an uns selbst. Unsere gemeinsame Reise dreht sich um Wahrnehmung\, Bewusstseinserweiterung und die immer tiefere Beziehung zu uns selbst und zueinander. \nDabei hat uns eine Methode besonders geprägt und enorm in unserer Entwicklung unterstützt: Die Selbstintegration nach Judith Mücke. \nSie hat uns geholfen\, unser wahres Wesen mehr und mehr zu verkörpern\, unsere Schatten zu integrieren und unsere Bestimmung zu leben. Diese kraftvolle und tiefgehende Arbeit ist längst nicht mehr aus unserem Leben wegzudenken. \nNun vereinen wir unsere Potenziale und Qualitäten\, und laden dich ein innerhalb einer verbindlichen Gruppe\, gemeinsam zu wachsen und zu Heilen.  \n 
URL:https://friedvolle-krieger.de/training/selbstintegration-intensiv
LOCATION:Thüringerstraße – Leipzig (Bei Kraftraum klingeln)\, Thüringerstraße 23\, 04179 Leipzig\, Germany\, Leipzig\, Sachsen\, 04229
ATTACH;FMTTYPE=image/jpeg:https://friedvolle-krieger.de/wp-content/uploads/friedvolle-krieger-mentoring-scaled.jpeg
END:VEVENT
END:VCALENDAR